BEGIN:VCALENDAR
VERSION:2.0
PRODID:-//Noor Collective - San Diego Shia Islamic Center - ECPv5.1.6//NONSGML v1.0//EN
CALSCALE:GREGORIAN
METHOD:PUBLISH
X-WR-CALNAME:Noor Collective - San Diego Shia Islamic Center
X-ORIGINAL-URL:https://noorcollective.org
X-WR-CALDESC:Events for Noor Collective - San Diego Shia Islamic Center
BEGIN:VTIMEZONE
TZID:America/Los_Angeles
BEGIN:DAYLIGHT
TZOFFSETFROM:-0800
TZOFFSETTO:-0700
TZNAME:PDT
DTSTART:20210314T100000
END:DAYLIGHT
BEGIN:STANDARD
TZOFFSETFROM:-0700
TZOFFSETTO:-0800
TZNAME:PST
DTSTART:20211107T090000
END:STANDARD
END:VTIMEZONE
BEGIN:VEVENT
DTSTART;TZID=America/Los_Angeles:20210710T100000
DTEND;TZID=America/Los_Angeles:20210710T160000
DTSTAMP:20260421T230007
CREATED:20210624T223007Z
LAST-MODIFIED:20210624T224111Z
UID:3281-1625911200-1625932800@noorcollective.org
SUMMARY:Julian Day Trip
DESCRIPTION:We are excited to announce a day trip to Julian for Saturday\, July 10th! We plan to leave San Diego around 10 am\, and meet at William Heise County Park at 11 am inshAllah. The plan is to have an informal discussion circle\, picnic/relax\, enjoy some delicious locally sourced pie and head back home. If you want to carpool\, or are willing to drive up a few people with you\, please let us know so we can get it set up! \nLocation pin for William Heise County Park: https://goo.gl/maps/YGsZtnSoydLHYEWcA
URL:https://noorcollective.org/event/3281/
END:VEVENT
END:VCALENDAR