BEGIN:VCALENDAR
VERSION:2.0
PRODID:-//Noor Collective - San Diego Shia Islamic Center - ECPv5.1.6//NONSGML v1.0//EN
CALSCALE:GREGORIAN
METHOD:PUBLISH
X-WR-CALNAME:Noor Collective - San Diego Shia Islamic Center
X-ORIGINAL-URL:https://noorcollective.org
X-WR-CALDESC:Events for Noor Collective - San Diego Shia Islamic Center
BEGIN:VTIMEZONE
TZID:America/Los_Angeles
BEGIN:DAYLIGHT
TZOFFSETFROM:-0800
TZOFFSETTO:-0700
TZNAME:PDT
DTSTART:20210314T100000
END:DAYLIGHT
BEGIN:STANDARD
TZOFFSETFROM:-0700
TZOFFSETTO:-0800
TZNAME:PST
DTSTART:20211107T090000
END:STANDARD
END:VTIMEZONE
BEGIN:VEVENT
DTSTART;TZID=America/Los_Angeles:20211001T193000
DTEND;TZID=America/Los_Angeles:20211001T210000
DTSTAMP:20260422T053323
CREATED:20210930T152840Z
LAST-MODIFIED:20210930T152927Z
UID:3328-1633116600-1633122000@noorcollective.org
SUMMARY:Ambition: Finding Balance In An Unbalanced World!
DESCRIPTION:Our Noor Collective weekly programming is back Alhamdullillah. Join us this week as we explore the concept of ambition through the lens of the Ahlul Bayt (a). What was the correct perspective which those closest to God had when it came to living an ambitious life. Why is it so difficult for us to find balance in our day to day lives. What were some of the techniques which the scholars used in order to maximize the living of an ideal lifestyle? We will be going through these ideas and more during our session on Friday\, inshallah! \nSchedule:\n7:30PM PST: Speech/Q&A \nZoom link: https://us02web.zoom.us/j/82460184140?pwd=QUFQOUF1T2tha1U1QUYwUEhzMWFMdz09\nMeeting ID: 824 6018 4140 \nPasscode: 321152
URL:https://noorcollective.org/event/3328/
CATEGORIES:Lecture
END:VEVENT
END:VCALENDAR