BEGIN:VCALENDAR
VERSION:2.0
PRODID:-//Noor Collective - San Diego Shia Islamic Center - ECPv5.1.6//NONSGML v1.0//EN
CALSCALE:GREGORIAN
METHOD:PUBLISH
X-WR-CALNAME:Noor Collective - San Diego Shia Islamic Center
X-ORIGINAL-URL:https://noorcollective.org
X-WR-CALDESC:Events for Noor Collective - San Diego Shia Islamic Center
BEGIN:VTIMEZONE
TZID:America/Los_Angeles
BEGIN:DAYLIGHT
TZOFFSETFROM:-0800
TZOFFSETTO:-0700
TZNAME:PDT
DTSTART:20190310T100000
END:DAYLIGHT
BEGIN:STANDARD
TZOFFSETFROM:-0700
TZOFFSETTO:-0800
TZNAME:PST
DTSTART:20191103T090000
END:STANDARD
END:VTIMEZONE
BEGIN:VEVENT
DTSTART;TZID=America/Los_Angeles:20191115T190000
DTEND;TZID=America/Los_Angeles:20191115T210000
DTSTAMP:20260424T211833
CREATED:20191111T164728Z
LAST-MODIFIED:20191111T164728Z
UID:2818-1573844400-1573851600@noorcollective.org
SUMMARY:5 Ways To Emulate The Prophet [Peace Be Upon Him]
DESCRIPTION:In honor of the birthday of Prophet Muhammad [Peace Be Upon Him]\, this week’s program will be dedicated to discussing five important and practical ways to become more like him in our daily lives. \nSchedule: \n7:00 PM: Isha Prayer \n7:20PM: Speech / Q&A \n8:20PM: Dinner
URL:https://noorcollective.org/event/5-ways-to-emulate-the-prophet-peace-be-upon-him/
LOCATION:Noor Collective\, 7969 ENGINEER RD #110\, San diego\, CA\, 92111\, United States
CATEGORIES:Lecture
ORGANIZER;CN="Noor%20Collective":MAILTO:sourceseyed@gmail.com
END:VEVENT
END:VCALENDAR