BEGIN:VCALENDAR
VERSION:2.0
PRODID:-//Noor Collective - San Diego Shia Islamic Center - ECPv5.1.6//NONSGML v1.0//EN
CALSCALE:GREGORIAN
METHOD:PUBLISH
X-WR-CALNAME:Noor Collective - San Diego Shia Islamic Center
X-ORIGINAL-URL:https://noorcollective.org
X-WR-CALDESC:Events for Noor Collective - San Diego Shia Islamic Center
BEGIN:VTIMEZONE
TZID:America/Los_Angeles
BEGIN:DAYLIGHT
TZOFFSETFROM:-0800
TZOFFSETTO:-0700
TZNAME:PDT
DTSTART:20210314T100000
END:DAYLIGHT
BEGIN:STANDARD
TZOFFSETFROM:-0700
TZOFFSETTO:-0800
TZNAME:PST
DTSTART:20211107T090000
END:STANDARD
END:VTIMEZONE
BEGIN:VEVENT
DTSTART;TZID=America/Los_Angeles:20211231T190000
DTEND;TZID=America/Los_Angeles:20211231T203000
DTSTAMP:20260422T144636
CREATED:20220101T011610Z
LAST-MODIFIED:20220101T015124Z
UID:3365-1640977200-1640982600@noorcollective.org
SUMMARY:A Look at 5 Allegations against the Prophet (s) Part 2
DESCRIPTION:Join us this week as we go into 5 allegations mentioned against the Prophet (s). These include some of the most controversial aspects of Islam according to non-Muslims. Do these allegations have any validity and how can we best defend Islam when they are brought up? \nSchedule: \n7:00pm PST: Speech/Q&A \nhttps://us02web.zoom.us/j/82518373264?pwd=d2t0c3ZaR084blhCQjRTenBiS3Judz09 \nMeeting ID: 825 1837 3264\nPasscode: 179350
URL:https://noorcollective.org/event/a-look-at-5-allegations-against-the-prophet-s-part-2/
CATEGORIES:Lecture
ATTACH;FMTTYPE=image/png:https://noorcollective.org/wp-content/uploads/YMA_DEC31_2021.png
END:VEVENT
END:VCALENDAR