BEGIN:VCALENDAR
VERSION:2.0
PRODID:-//Noor Collective - San Diego Shia Islamic Center - ECPv5.1.6//NONSGML v1.0//EN
CALSCALE:GREGORIAN
METHOD:PUBLISH
X-WR-CALNAME:Noor Collective - San Diego Shia Islamic Center
X-ORIGINAL-URL:https://noorcollective.org
X-WR-CALDESC:Events for Noor Collective - San Diego Shia Islamic Center
BEGIN:VTIMEZONE
TZID:America/Los_Angeles
BEGIN:DAYLIGHT
TZOFFSETFROM:-0800
TZOFFSETTO:-0700
TZNAME:PDT
DTSTART:20220313T100000
END:DAYLIGHT
BEGIN:STANDARD
TZOFFSETFROM:-0700
TZOFFSETTO:-0800
TZNAME:PST
DTSTART:20221106T090000
END:STANDARD
END:VTIMEZONE
BEGIN:VEVENT
DTSTART;TZID=America/Los_Angeles:20220115T190000
DTEND;TZID=America/Los_Angeles:20220115T203000
DTSTAMP:20260422T174902
CREATED:20220112T191009Z
LAST-MODIFIED:20220112T191528Z
UID:3373-1642273200-1642278600@noorcollective.org
SUMMARY:A Look at 5 Allegations against the Prophet (s) Part 4
DESCRIPTION:Note: This week’s program will begin at 7:00 PM PST time!  \nJoin us this week as we go into 5 allegations mentioned against the Prophet (s). These include some of the most controversial aspects of Islam according to non-Muslims. Do these allegations have any validity and how can we best defend Islam when they are brought up? \nSchedule: \n7:00pm PST: Speech/Q&A \nhttps://us02web.zoom.us/j/82132768142?pwd=bnBVNmZDNGZ2dXgzNE1zT3BzWnJlQT09 \nMeeting ID: 821 3276 8142 \nPasscode: 405977
URL:https://noorcollective.org/event/a-look-at-5-allegations-against-the-prophet-s-part-4/
CATEGORIES:Lecture
ATTACH;FMTTYPE=image/png:https://noorcollective.org/wp-content/uploads/YMA_JAN14_2022.png
END:VEVENT
END:VCALENDAR