BEGIN:VCALENDAR
VERSION:2.0
PRODID:-//Noor Collective - San Diego Shia Islamic Center - ECPv5.1.6//NONSGML v1.0//EN
CALSCALE:GREGORIAN
METHOD:PUBLISH
X-WR-CALNAME:Noor Collective - San Diego Shia Islamic Center
X-ORIGINAL-URL:https://noorcollective.org
X-WR-CALDESC:Events for Noor Collective - San Diego Shia Islamic Center
BEGIN:VTIMEZONE
TZID:America/Los_Angeles
BEGIN:DAYLIGHT
TZOFFSETFROM:-0800
TZOFFSETTO:-0700
TZNAME:PDT
DTSTART:20230312T100000
END:DAYLIGHT
BEGIN:STANDARD
TZOFFSETFROM:-0700
TZOFFSETTO:-0800
TZNAME:PST
DTSTART:20231105T090000
END:STANDARD
END:VTIMEZONE
BEGIN:VEVENT
DTSTART;TZID=America/Los_Angeles:20230303T190000
DTEND;TZID=America/Los_Angeles:20230303T203000
DTSTAMP:20260422T150750
CREATED:20230301T064028Z
LAST-MODIFIED:20230301T065612Z
UID:3538-1677870000-1677875400@noorcollective.org
SUMMARY:Abul Fadhl- Abbas ibn Ali - The Manifestation of Lofty Virtues
DESCRIPTION:Come join us this Friday at 7 PM PST as we take a deeper look into the life of Abul Fadhl al-Abbas\, and go over the lofty virtues that made him into who was. \nZoom link: https://us02web.zoom.us/j/85016107896?pwd=N0hIOFZUaHhLK0tHMlBaaWExQXBmUT09\nMeeting ID: 850 1610 7896\nPasscode: 571355
URL:https://noorcollective.org/event/abul-fadhl-abbas-ibn-ali-the-manifestation-of-lofty-virtues/
CATEGORIES:Lecture
ATTACH;FMTTYPE=image/png:https://noorcollective.org/wp-content/uploads/YMA_MAR3_2023.png
END:VEVENT
END:VCALENDAR