BEGIN:VCALENDAR
VERSION:2.0
PRODID:-//Noor Collective - San Diego Shia Islamic Center - ECPv5.1.6//NONSGML v1.0//EN
CALSCALE:GREGORIAN
METHOD:PUBLISH
X-WR-CALNAME:Noor Collective - San Diego Shia Islamic Center
X-ORIGINAL-URL:https://noorcollective.org
X-WR-CALDESC:Events for Noor Collective - San Diego Shia Islamic Center
BEGIN:VTIMEZONE
TZID:America/Los_Angeles
BEGIN:DAYLIGHT
TZOFFSETFROM:-0800
TZOFFSETTO:-0700
TZNAME:PDT
DTSTART:20240310T100000
END:DAYLIGHT
BEGIN:STANDARD
TZOFFSETFROM:-0700
TZOFFSETTO:-0800
TZNAME:PST
DTSTART:20241103T090000
END:STANDARD
END:VTIMEZONE
BEGIN:VEVENT
DTSTART;TZID=America/Los_Angeles:20240412T193000
DTEND;TZID=America/Los_Angeles:20240412T210000
DTSTAMP:20260422T074846
CREATED:20240412T042734Z
LAST-MODIFIED:20240412T042752Z
UID:3778-1712950200-1712955600@noorcollective.org
SUMMARY:Adoption - A Great Haram?
DESCRIPTION:Note the time change from our normal program time. \nFriday @ 7:30pm – ‘Adoption – A Great Haram?’ \nSchedule:\n7:15pm: Door Opens\n7:30pm: Maghrib prayers\n7:45pm: Lecture by Seyed Ali\n8:30pm: Dinner \nAddress: 7969 ENGINEER RD #110\, SAN DIEGO\, CA 92111 https://goo.gl/maps/i2HTdSVmLKjW25XR8
URL:https://noorcollective.org/event/adoption-a-great-haram/
CATEGORIES:Lecture
END:VEVENT
END:VCALENDAR