BEGIN:VCALENDAR
VERSION:2.0
PRODID:-//Noor Collective - San Diego Shia Islamic Center - ECPv5.1.6//NONSGML v1.0//EN
CALSCALE:GREGORIAN
METHOD:PUBLISH
X-WR-CALNAME:Noor Collective - San Diego Shia Islamic Center
X-ORIGINAL-URL:https://noorcollective.org
X-WR-CALDESC:Events for Noor Collective - San Diego Shia Islamic Center
BEGIN:VTIMEZONE
TZID:America/Los_Angeles
BEGIN:DAYLIGHT
TZOFFSETFROM:-0800
TZOFFSETTO:-0700
TZNAME:PDT
DTSTART:20180311T100000
END:DAYLIGHT
BEGIN:STANDARD
TZOFFSETFROM:-0700
TZOFFSETTO:-0800
TZNAME:PST
DTSTART:20181104T090000
END:STANDARD
END:VTIMEZONE
BEGIN:VEVENT
DTSTART;TZID=America/Los_Angeles:20180223T190000
DTEND;TZID=America/Los_Angeles:20180223T213000
DTSTAMP:20260425T140342
CREATED:20180220T153333Z
LAST-MODIFIED:20180220T153333Z
UID:2248-1519412400-1519421400@noorcollective.org
SUMMARY:Adoption in Islam
DESCRIPTION:Islam places a huge emphasis on taking care of and honoring the orphans. Where does adoption come into the picture? Sayed Ali will be giving a comprehensive speech outlining the various intricacies of adoption in Islam. \nJoin us this Friday at 7PM to find out.
URL:https://noorcollective.org/event/adoption-in-islam/
LOCATION:Noor Collective\, 7969 ENGINEER RD #110\, San diego\, CA\, 92111\, United States
CATEGORIES:Lecture
ATTACH;FMTTYPE=image/jpeg:https://noorcollective.org/wp-content/uploads/28335885_1746176945439675_7726001368514040911_o.jpg
ORGANIZER;CN="Noor%20Collective":MAILTO:sourceseyed@gmail.com
END:VEVENT
END:VCALENDAR