BEGIN:VCALENDAR
VERSION:2.0
PRODID:-//Noor Collective - San Diego Shia Islamic Center - ECPv5.1.6//NONSGML v1.0//EN
CALSCALE:GREGORIAN
METHOD:PUBLISH
X-WR-CALNAME:Noor Collective - San Diego Shia Islamic Center
X-ORIGINAL-URL:https://noorcollective.org
X-WR-CALDESC:Events for Noor Collective - San Diego Shia Islamic Center
BEGIN:VTIMEZONE
TZID:America/Los_Angeles
BEGIN:DAYLIGHT
TZOFFSETFROM:-0800
TZOFFSETTO:-0700
TZNAME:PDT
DTSTART:20250309T100000
END:DAYLIGHT
BEGIN:STANDARD
TZOFFSETFROM:-0700
TZOFFSETTO:-0800
TZNAME:PST
DTSTART:20251102T090000
END:STANDARD
END:VTIMEZONE
BEGIN:VEVENT
DTSTART;TZID=America/Los_Angeles:20250711T190000
DTEND;TZID=America/Los_Angeles:20250711T213000
DTSTAMP:20260421T133543
CREATED:20250710T203942Z
LAST-MODIFIED:20250710T203942Z
UID:4112-1752260400-1752269400@noorcollective.org
SUMMARY:After Karbala - Preparing for the Imam
DESCRIPTION:Friday @ 7:00 PM – After Karbala: Preparing for Our Imam\n7:00 PM – Quran Recitation\n7:10 PM – Speech by Seyed Ali + Q&A\n8:15 PM – Prayers\n8:30 PM – Dinner \n 
URL:https://noorcollective.org/event/after-karbala-preparing-for-the-imam/
CATEGORIES:Lecture
END:VEVENT
END:VCALENDAR