BEGIN:VCALENDAR
VERSION:2.0
PRODID:-//Noor Collective - San Diego Shia Islamic Center - ECPv5.1.6//NONSGML v1.0//EN
CALSCALE:GREGORIAN
METHOD:PUBLISH
X-WR-CALNAME:Noor Collective - San Diego Shia Islamic Center
X-ORIGINAL-URL:https://noorcollective.org
X-WR-CALDESC:Events for Noor Collective - San Diego Shia Islamic Center
BEGIN:VTIMEZONE
TZID:America/Los_Angeles
BEGIN:DAYLIGHT
TZOFFSETFROM:-0800
TZOFFSETTO:-0700
TZNAME:PDT
DTSTART:20240310T100000
END:DAYLIGHT
BEGIN:STANDARD
TZOFFSETFROM:-0700
TZOFFSETTO:-0800
TZNAME:PST
DTSTART:20241103T090000
END:STANDARD
END:VTIMEZONE
BEGIN:VEVENT
DTSTART;TZID=America/Los_Angeles:20240802T190000
DTEND;TZID=America/Los_Angeles:20240802T203000
DTSTAMP:20260422T031041
CREATED:20240731T065647Z
LAST-MODIFIED:20240731T065647Z
UID:3883-1722625200-1722630600@noorcollective.org
SUMMARY:Aisha: Mother of the Believers Part 2
DESCRIPTION:Schedule:\n6:45pm: Door Opens\n7:00pm: Lecture by Seyed Ali Musawi\n8:15pm: Prayers\n8:30pm: Dinner \nIn addition\, we are still aiming to raise $10\,000 to cover some of the expenses from our Muharram programs\, as well as our upcoming Arbaeen programs. You can donate using our launchgood link here: https://www.launchgood.com/v4/campaign/noor_collective_muharram_campaign as well as on our website https://noorcollective.org/donate/ \nAll programs are held at:  7969 ENGINEER RD #110\, SAN DIEGO\, CA 92111 https://goo.gl/maps/i2HTdSVmLKjW25XR8
URL:https://noorcollective.org/event/aisha-mother-of-the-believers-part-2/
CATEGORIES:Lecture
ATTACH;FMTTYPE=image/png:https://noorcollective.org/wp-content/uploads/YMA_JUL25_2025-1.png
END:VEVENT
END:VCALENDAR