BEGIN:VCALENDAR
VERSION:2.0
PRODID:-//Noor Collective - San Diego Shia Islamic Center - ECPv5.1.6//NONSGML v1.0//EN
CALSCALE:GREGORIAN
METHOD:PUBLISH
X-WR-CALNAME:Noor Collective - San Diego Shia Islamic Center
X-ORIGINAL-URL:https://noorcollective.org
X-WR-CALDESC:Events for Noor Collective - San Diego Shia Islamic Center
BEGIN:VTIMEZONE
TZID:America/Los_Angeles
BEGIN:DAYLIGHT
TZOFFSETFROM:-0800
TZOFFSETTO:-0700
TZNAME:PDT
DTSTART:20250309T100000
END:DAYLIGHT
BEGIN:STANDARD
TZOFFSETFROM:-0700
TZOFFSETTO:-0800
TZNAME:PST
DTSTART:20251102T090000
END:STANDARD
END:VTIMEZONE
BEGIN:VEVENT
DTSTART;TZID=America/Los_Angeles:20250213T180000
DTEND;TZID=America/Los_Angeles:20250213T210000
DTSTAMP:20260421T190737
CREATED:20250211T162747Z
LAST-MODIFIED:20250211T162747Z
UID:4024-1739469600-1739480400@noorcollective.org
SUMMARY:Amaal of 15th of Shabaan @ 6:00pm
DESCRIPTION:Special Community Program Thursday @ 6:00pm\nAmaal of 15th of Shabaan (led by Brother Ali) \nSchedule:\n6:00pm: Prayers\n6:20pm: Iftar\n7:00-9:00pm: Duas & Ziyarat & other Amaal
URL:https://noorcollective.org/event/amaal-of-15th-of-shabaan-600pm/
END:VEVENT
END:VCALENDAR