BEGIN:VCALENDAR
VERSION:2.0
PRODID:-//Noor Collective - San Diego Shia Islamic Center - ECPv5.1.6//NONSGML v1.0//EN
CALSCALE:GREGORIAN
METHOD:PUBLISH
X-WR-CALNAME:Noor Collective - San Diego Shia Islamic Center
X-ORIGINAL-URL:https://noorcollective.org
X-WR-CALDESC:Events for Noor Collective - San Diego Shia Islamic Center
BEGIN:VTIMEZONE
TZID:America/Los_Angeles
BEGIN:DAYLIGHT
TZOFFSETFROM:-0800
TZOFFSETTO:-0700
TZNAME:PDT
DTSTART:20240310T100000
END:DAYLIGHT
BEGIN:STANDARD
TZOFFSETFROM:-0700
TZOFFSETTO:-0800
TZNAME:PST
DTSTART:20241103T090000
END:STANDARD
END:VTIMEZONE
BEGIN:VEVENT
DTSTART;TZID=America/Los_Angeles:20240823T193000
DTEND;TZID=America/Los_Angeles:20240824T213000
DTSTAMP:20260422T030712
CREATED:20240819T051600Z
LAST-MODIFIED:20240819T051922Z
UID:3907-1724441400-1724535000@noorcollective.org
SUMMARY:Arbaeen 2024 with Sayed Hussain Razavi
DESCRIPTION:Special Arbaeen Program This Friday & Saturday. \nFriday + Saturday Schedules:\n7:20pm: Door Opens\n7:30pm: Prayers\n7:45pm:Quran\n7:55pm: Speech / Eulogy by Sayed Hussain Razavi\n9:10pm: Dinner \nAll programs are held at:  7969 ENGINEER RD #110\, SAN DIEGO\, CA 92111 https://goo.gl/maps/i2HTdSVmLKjW25XR8 \nScholar Bio:\nSeyed Hussain Razavi was born and raised in the New Jersey community where he attended Rutgers University and graduated in 2008. He studied in the seminary in Qum where he studied Islamic sciences under prominent scholars and completed his foundational studies. He currently resides in Dallas and is involved with teaching and lecturing at City of Knowledge and various venues.
URL:https://noorcollective.org/event/arbaeen-2024-with-sayed-hussain-razavi/
CATEGORIES:Lecture
ATTACH;FMTTYPE=image/jpeg:https://noorcollective.org/wp-content/uploads/Arbaeen2024.jpg
END:VEVENT
END:VCALENDAR