BEGIN:VCALENDAR
VERSION:2.0
PRODID:-//Noor Collective - San Diego Shia Islamic Center - ECPv5.1.6//NONSGML v1.0//EN
CALSCALE:GREGORIAN
METHOD:PUBLISH
X-WR-CALNAME:Noor Collective - San Diego Shia Islamic Center
X-ORIGINAL-URL:https://noorcollective.org
X-WR-CALDESC:Events for Noor Collective - San Diego Shia Islamic Center
BEGIN:VTIMEZONE
TZID:America/Los_Angeles
BEGIN:DAYLIGHT
TZOFFSETFROM:-0800
TZOFFSETTO:-0700
TZNAME:PDT
DTSTART:20180311T100000
END:DAYLIGHT
BEGIN:STANDARD
TZOFFSETFROM:-0700
TZOFFSETTO:-0800
TZNAME:PST
DTSTART:20181104T090000
END:STANDARD
END:VTIMEZONE
BEGIN:VEVENT
DTSTART;TZID=America/Los_Angeles:20181019T190000
DTEND;TZID=America/Los_Angeles:20181019T213000
DTSTAMP:20260422T022947
CREATED:20181018T092236Z
LAST-MODIFIED:20181018T092236Z
UID:2522-1539975600-1539984600@noorcollective.org
SUMMARY:Battle of the Camel
DESCRIPTION:Join us this Friday night as we discuss the Battle of the Came l. What led to it happening? What lessons can we take away from it\, and how can we apply them to our lives today? How did it help mold the Islamic definition of gender and politics? \nSchedule:\n7:00 PM: Prayers\n7:30 PM: Speech / Q&A\n8:30 PM: Dinner
URL:https://noorcollective.org/event/battle-of-the-camel/
LOCATION:Noor Collective\, 7969 ENGINEER RD #110\, San diego\, CA\, 92111\, United States
CATEGORIES:Lecture
ATTACH;FMTTYPE=image/png:https://noorcollective.org/wp-content/uploads/unnamed-3.png
ORGANIZER;CN="Noor%20Collective":MAILTO:sourceseyed@gmail.com
END:VEVENT
END:VCALENDAR