BEGIN:VCALENDAR
VERSION:2.0
PRODID:-//Noor Collective - San Diego Shia Islamic Center - ECPv5.1.6//NONSGML v1.0//EN
CALSCALE:GREGORIAN
METHOD:PUBLISH
X-WR-CALNAME:Noor Collective - San Diego Shia Islamic Center
X-ORIGINAL-URL:https://noorcollective.org
X-WR-CALDESC:Events for Noor Collective - San Diego Shia Islamic Center
BEGIN:VTIMEZONE
TZID:America/Los_Angeles
BEGIN:DAYLIGHT
TZOFFSETFROM:-0800
TZOFFSETTO:-0700
TZNAME:PDT
DTSTART:20170312T100000
END:DAYLIGHT
BEGIN:STANDARD
TZOFFSETFROM:-0700
TZOFFSETTO:-0800
TZNAME:PST
DTSTART:20171105T090000
END:STANDARD
END:VTIMEZONE
BEGIN:VEVENT
DTSTART;TZID=America/Los_Angeles:20170415T130000
DTEND;TZID=America/Los_Angeles:20170415T170000
DTSTAMP:20260421T165223
CREATED:20170401T080559Z
LAST-MODIFIED:20170401T080559Z
UID:1861-1492261200-1492275600@noorcollective.org
SUMMARY:BBQ & Potluck
DESCRIPTION:We will be having a BBQ/Potluck at Paradise Point. Invite all your friends and come to have a great time with your community. \nIn order to recoup costs\, BBQ will be 5$ per person. \n\nNote: The event will be held at Paradise Point park. 
URL:https://noorcollective.org/event/bbq-potluck/
LOCATION:Paradise Point\, 1404 Vacation Rd\, San Diego\, CA\, 92109\, United States
ORGANIZER;CN="Noor%20Collective":MAILTO:sourceseyed@gmail.com
END:VEVENT
END:VCALENDAR