BEGIN:VCALENDAR
VERSION:2.0
PRODID:-//Noor Collective - San Diego Shia Islamic Center - ECPv5.1.6//NONSGML v1.0//EN
CALSCALE:GREGORIAN
METHOD:PUBLISH
X-WR-CALNAME:Noor Collective - San Diego Shia Islamic Center
X-ORIGINAL-URL:https://noorcollective.org
X-WR-CALDESC:Events for Noor Collective - San Diego Shia Islamic Center
BEGIN:VTIMEZONE
TZID:America/Los_Angeles
BEGIN:DAYLIGHT
TZOFFSETFROM:-0800
TZOFFSETTO:-0700
TZNAME:PDT
DTSTART:20230312T100000
END:DAYLIGHT
BEGIN:STANDARD
TZOFFSETFROM:-0700
TZOFFSETTO:-0800
TZNAME:PST
DTSTART:20231105T090000
END:STANDARD
END:VTIMEZONE
BEGIN:VEVENT
DTSTART;TZID=America/Los_Angeles:20230428T184500
DTEND;TZID=America/Los_Angeles:20230428T203000
DTSTAMP:20260422T150543
CREATED:20230426T190945Z
LAST-MODIFIED:20230426T194112Z
UID:3553-1682707500-1682713800@noorcollective.org
SUMMARY:Building a Beautiful Relationship with God!  [In Person program]
DESCRIPTION:Salam Alaykum\, we’re excited to announce our first in-person program at our new location: 7969 ENGINEER RD #110\, SAN DIEGO\, CA 92111 (Google Maps link) \nJoin us this Friday at 6:45pm sharp as we go over the important topic of how to build a beautiful relationship with Allah. \nSchedule:\n6:45pm: Lecture by Seyed Ali Musawi\n7:40pm: Prayers\n8:00pm: Light Dinner \nGoogle Maps link: https://goo.gl/maps/i2HTdSVmLKjW25XR8
URL:https://noorcollective.org/event/building-a-beautiful-relationship-with-god/
CATEGORIES:Lecture
ATTACH;FMTTYPE=image/png:https://noorcollective.org/wp-content/uploads/YMA_APR28_2023.png
END:VEVENT
END:VCALENDAR