BEGIN:VCALENDAR
VERSION:2.0
PRODID:-//Noor Collective - San Diego Shia Islamic Center - ECPv5.1.6//NONSGML v1.0//EN
CALSCALE:GREGORIAN
METHOD:PUBLISH
X-WR-CALNAME:Noor Collective - San Diego Shia Islamic Center
X-ORIGINAL-URL:https://noorcollective.org
X-WR-CALDESC:Events for Noor Collective - San Diego Shia Islamic Center
BEGIN:VTIMEZONE
TZID:America/Los_Angeles
BEGIN:DAYLIGHT
TZOFFSETFROM:-0800
TZOFFSETTO:-0700
TZNAME:PDT
DTSTART:20180311T100000
END:DAYLIGHT
BEGIN:STANDARD
TZOFFSETFROM:-0700
TZOFFSETTO:-0800
TZNAME:PST
DTSTART:20181104T090000
END:STANDARD
END:VTIMEZONE
BEGIN:VEVENT
DTSTART;TZID=America/Los_Angeles:20180928T190000
DTEND;TZID=America/Los_Angeles:20180928T210000
DTSTAMP:20260424T011627
CREATED:20180928T032010Z
LAST-MODIFIED:20180928T032010Z
UID:2512-1538161200-1538168400@noorcollective.org
SUMMARY:Celebrity Worship
DESCRIPTION:Why does our society and every other society put so much emphasis on celebrity worship?  What role does the media have in raising up celebrities and how can we counteract that? As Muslims\, who should be our heroes? \n  \nSchedule: \n7:00PM: Prayers \n7:30PM: Speech/Q&A \n8:30PM: Dinner
URL:https://noorcollective.org/event/celebrity-worship/
LOCATION:Noor Collective\, 7969 ENGINEER RD #110\, San diego\, CA\, 92111\, United States
CATEGORIES:Lecture
ORGANIZER;CN="Noor%20Collective":MAILTO:sourceseyed@gmail.com
END:VEVENT
END:VCALENDAR