BEGIN:VCALENDAR
VERSION:2.0
PRODID:-//Noor Collective - San Diego Shia Islamic Center - ECPv5.1.6//NONSGML v1.0//EN
CALSCALE:GREGORIAN
METHOD:PUBLISH
X-WR-CALNAME:Noor Collective - San Diego Shia Islamic Center
X-ORIGINAL-URL:https://noorcollective.org
X-WR-CALDESC:Events for Noor Collective - San Diego Shia Islamic Center
BEGIN:VTIMEZONE
TZID:America/Los_Angeles
BEGIN:DAYLIGHT
TZOFFSETFROM:-0800
TZOFFSETTO:-0700
TZNAME:PDT
DTSTART:20260308T100000
END:DAYLIGHT
BEGIN:STANDARD
TZOFFSETFROM:-0700
TZOFFSETTO:-0800
TZNAME:PST
DTSTART:20261101T090000
END:STANDARD
END:VTIMEZONE
BEGIN:VEVENT
DTSTART;TZID=America/Los_Angeles:20260213T190000
DTEND;TZID=America/Los_Angeles:20260213T210000
DTSTAMP:20260421T104323
CREATED:20260213T015818Z
LAST-MODIFIED:20260213T015818Z
UID:4198-1771009200-1771016400@noorcollective.org
SUMMARY:Combatting the Waswasa- A Look at Religious OCD @ 7:00 PM
DESCRIPTION:🌙 Friday – Combatting the Waswasa- A Look at Religious OCD @ 7:00 PM*\n🕢 7:00 PM – Doors Open\n🧎 7:05PM – Isha Prayer\n🎙 7:25PM – Talk by Seyed Ali + Q&A\n🍽 9:00 PM – Dinner
URL:https://noorcollective.org/event/combatting-the-waswasa-a-look-at-religious-ocd-700-pm/
CATEGORIES:Lecture
END:VEVENT
END:VCALENDAR