BEGIN:VCALENDAR
VERSION:2.0
PRODID:-//Noor Collective - San Diego Shia Islamic Center - ECPv5.1.6//NONSGML v1.0//EN
CALSCALE:GREGORIAN
METHOD:PUBLISH
X-WR-CALNAME:Noor Collective - San Diego Shia Islamic Center
X-ORIGINAL-URL:https://noorcollective.org
X-WR-CALDESC:Events for Noor Collective - San Diego Shia Islamic Center
BEGIN:VTIMEZONE
TZID:America/Los_Angeles
BEGIN:DAYLIGHT
TZOFFSETFROM:-0800
TZOFFSETTO:-0700
TZNAME:PDT
DTSTART:20190310T100000
END:DAYLIGHT
BEGIN:STANDARD
TZOFFSETFROM:-0700
TZOFFSETTO:-0800
TZNAME:PST
DTSTART:20191103T090000
END:STANDARD
END:VTIMEZONE
BEGIN:VEVENT
DTSTART;TZID=America/Los_Angeles:20190118T190000
DTEND;TZID=America/Los_Angeles:20190118T210000
DTSTAMP:20260422T125406
CREATED:20190107T071055Z
LAST-MODIFIED:20190117T181927Z
UID:2553-1547838000-1547845200@noorcollective.org
SUMMARY:Our Daily Lives - Interactive Workshop
DESCRIPTION:Back by popular demand\, another workshop dealing with the issues that many of us face in our day to day lives. We will be splitting off into groups and discussing various complex scenarios that many of us face in America on a daily basis. \nSchedule: \n7:00PM: Workshop \n8:00PM: Dinner
URL:https://noorcollective.org/event/daily-lives-interactive-workshop/
LOCATION:Noor Collective\, 7969 ENGINEER RD #110\, San diego\, CA\, 92111\, United States
CATEGORIES:Workshop
ATTACH;FMTTYPE=image/png:https://noorcollective.org/wp-content/uploads/YMA_JAN18_2019.png
ORGANIZER;CN="Noor%20Collective":MAILTO:sourceseyed@gmail.com
END:VEVENT
END:VCALENDAR