BEGIN:VCALENDAR
VERSION:2.0
PRODID:-//Noor Collective - San Diego Shia Islamic Center - ECPv5.1.6//NONSGML v1.0//EN
CALSCALE:GREGORIAN
METHOD:PUBLISH
X-WR-CALNAME:Noor Collective - San Diego Shia Islamic Center
X-ORIGINAL-URL:https://noorcollective.org
X-WR-CALDESC:Events for Noor Collective - San Diego Shia Islamic Center
BEGIN:VTIMEZONE
TZID:America/Los_Angeles
BEGIN:DAYLIGHT
TZOFFSETFROM:-0800
TZOFFSETTO:-0700
TZNAME:PDT
DTSTART:20190310T100000
END:DAYLIGHT
BEGIN:STANDARD
TZOFFSETFROM:-0700
TZOFFSETTO:-0800
TZNAME:PST
DTSTART:20191103T090000
END:STANDARD
END:VTIMEZONE
BEGIN:VEVENT
DTSTART;TZID=America/Los_Angeles:20191227T190000
DTEND;TZID=America/Los_Angeles:20191227T210000
DTSTAMP:20260424T194103
CREATED:20191226T032259Z
LAST-MODIFIED:20191226T042103Z
UID:2841-1577473200-1577480400@noorcollective.org
SUMMARY:Islam's take on Death\, Grief\, and more!
DESCRIPTION:As 2019 comes to an end\, our focus goes towards what happens when our life on this earth ends? In this week’s topic\, we will be discussing matters pertaining to death\, grief\, culture and Islam’s take on it all. \nSchedule: \n7:00PM: Isha Prayer \n7:20PM: Speech/Q&A \n8:20PM: Dinner
URL:https://noorcollective.org/event/death-grief-and-more/
LOCATION:Noor Collective\, 7969 ENGINEER RD #110\, San diego\, CA\, 92111\, United States
ATTACH;FMTTYPE=image/png:https://noorcollective.org/wp-content/uploads/YMA_DEC27_2019.png
ORGANIZER;CN="Noor%20Collective":MAILTO:sourceseyed@gmail.com
END:VEVENT
END:VCALENDAR