BEGIN:VCALENDAR
VERSION:2.0
PRODID:-//Noor Collective - San Diego Shia Islamic Center - ECPv5.1.6//NONSGML v1.0//EN
CALSCALE:GREGORIAN
METHOD:PUBLISH
X-WR-CALNAME:Noor Collective - San Diego Shia Islamic Center
X-ORIGINAL-URL:https://noorcollective.org
X-WR-CALDESC:Events for Noor Collective - San Diego Shia Islamic Center
BEGIN:VTIMEZONE
TZID:America/Los_Angeles
BEGIN:DAYLIGHT
TZOFFSETFROM:-0800
TZOFFSETTO:-0700
TZNAME:PDT
DTSTART:20180311T100000
END:DAYLIGHT
BEGIN:STANDARD
TZOFFSETFROM:-0700
TZOFFSETTO:-0800
TZNAME:PST
DTSTART:20181104T090000
END:STANDARD
END:VTIMEZONE
BEGIN:VEVENT
DTSTART;TZID=America/Los_Angeles:20180810T200000
DTEND;TZID=America/Los_Angeles:20180810T220000
DTSTAMP:20260421T120409
CREATED:20180809T203712Z
LAST-MODIFIED:20180809T203712Z
UID:2479-1533931200-1533938400@noorcollective.org
SUMMARY:Death: The Stages of Barzakh [Purgatory]
DESCRIPTION:“Every soul will taste death” (Holy Qur’an 3:185) \nJoin us for part 2 of our 3-part series of lectures on death and everything related to it. \nCome through this Friday night to learn everything about Barzakh [purgatory]\, as well as  what happens after we die. What happens to our soul? How does suffering in this world contribute towards the life in Barzakh and on the Day of Judgement? You’ll also get a chance to do a Q&A after the speech\, so come prepared with your questions! \nSchedule: \n8:00 PM: Prayers \n8:25 PM: Speech by Sayed Ali / Q&A \n9:25PM: Dinner \n 
URL:https://noorcollective.org/event/death-stages-barzakh-purgatory/
LOCATION:Noor Collective\, 7969 ENGINEER RD #110\, San diego\, CA\, 92111\, United States
CATEGORIES:Lecture
ATTACH;FMTTYPE=image/png:https://noorcollective.org/wp-content/uploads/YMA_AUG10_2018-1.png
ORGANIZER;CN="Noor%20Collective":MAILTO:sourceseyed@gmail.com
END:VEVENT
END:VCALENDAR