BEGIN:VCALENDAR
VERSION:2.0
PRODID:-//Noor Collective - San Diego Shia Islamic Center - ECPv5.1.6//NONSGML v1.0//EN
CALSCALE:GREGORIAN
METHOD:PUBLISH
X-WR-CALNAME:Noor Collective - San Diego Shia Islamic Center
X-ORIGINAL-URL:https://noorcollective.org
X-WR-CALDESC:Events for Noor Collective - San Diego Shia Islamic Center
BEGIN:VTIMEZONE
TZID:America/Los_Angeles
BEGIN:DAYLIGHT
TZOFFSETFROM:-0800
TZOFFSETTO:-0700
TZNAME:PDT
DTSTART:20180311T100000
END:DAYLIGHT
BEGIN:STANDARD
TZOFFSETFROM:-0700
TZOFFSETTO:-0800
TZNAME:PST
DTSTART:20181104T090000
END:STANDARD
END:VTIMEZONE
BEGIN:VEVENT
DTSTART;TZID=America/Los_Angeles:20180713T200000
DTEND;TZID=America/Los_Angeles:20180713T223000
DTSTAMP:20260421T120159
CREATED:20180711T034557Z
LAST-MODIFIED:20180711T034557Z
UID:2462-1531512000-1531521000@noorcollective.org
SUMMARY:Desconstructing Myths & Superstitions
DESCRIPTION:Do the dead see their live relatives? Do the dead ever visit? Does Nazr [vows] benefit the dead? Do Jinns control humans? Find out all this and more on this special Friday the 13th program. \n\n\n \n\n\nSchedule:\n\n\n8:10 PM: Maghrib/Isha Prayers\n\n\n8:25 PM: Lecture[&video] by Seyed Ali\n\n\n9:10 PM: Q&A\n\n\n9:25PM: Dinner
URL:https://noorcollective.org/event/desconstructing-myths-superstitions/
LOCATION:Noor Collective\, 7969 ENGINEER RD #110\, San diego\, CA\, 92111\, United States
CATEGORIES:Lecture
ORGANIZER;CN="Noor%20Collective":MAILTO:sourceseyed@gmail.com
END:VEVENT
END:VCALENDAR