BEGIN:VCALENDAR
VERSION:2.0
PRODID:-//Noor Collective - San Diego Shia Islamic Center - ECPv5.1.6//NONSGML v1.0//EN
CALSCALE:GREGORIAN
METHOD:PUBLISH
X-WR-CALNAME:Noor Collective - San Diego Shia Islamic Center
X-ORIGINAL-URL:https://noorcollective.org
X-WR-CALDESC:Events for Noor Collective - San Diego Shia Islamic Center
BEGIN:VTIMEZONE
TZID:America/Los_Angeles
BEGIN:DAYLIGHT
TZOFFSETFROM:-0800
TZOFFSETTO:-0700
TZNAME:PDT
DTSTART:20240310T100000
END:DAYLIGHT
BEGIN:STANDARD
TZOFFSETFROM:-0700
TZOFFSETTO:-0800
TZNAME:PST
DTSTART:20241103T090000
END:STANDARD
END:VTIMEZONE
BEGIN:VEVENT
DTSTART;TZID=America/Los_Angeles:20240604T080000
DTEND;TZID=America/Los_Angeles:20240604T170000
DTSTAMP:20260421T120332
CREATED:20240605T055040Z
LAST-MODIFIED:20240605T055040Z
UID:3838-1717488000-1717520400@noorcollective.org
SUMMARY:Dua Kumayl @ 7:00PM
DESCRIPTION:Join us this Thursday June 6th for Dua Kumayl. \n7:00pm: Short Speech by Seyed Ali\n7:20pm: Dua Kumayl\n8:10pm: Prayers \n\nAddress: 7969 ENGINEER RD #110\, SAN DIEGO\, CA 92111 https://goo.gl/maps/i2HTdSVmLKjW25XR8
URL:https://noorcollective.org/event/dua-kumayl-700pm-2/
END:VEVENT
END:VCALENDAR