BEGIN:VCALENDAR
VERSION:2.0
PRODID:-//Noor Collective - San Diego Shia Islamic Center - ECPv5.1.6//NONSGML v1.0//EN
CALSCALE:GREGORIAN
METHOD:PUBLISH
X-WR-CALNAME:Noor Collective - San Diego Shia Islamic Center
X-ORIGINAL-URL:https://noorcollective.org
X-WR-CALDESC:Events for Noor Collective - San Diego Shia Islamic Center
BEGIN:VTIMEZONE
TZID:America/Los_Angeles
BEGIN:DAYLIGHT
TZOFFSETFROM:-0800
TZOFFSETTO:-0700
TZNAME:PDT
DTSTART:20260308T100000
END:DAYLIGHT
BEGIN:STANDARD
TZOFFSETFROM:-0700
TZOFFSETTO:-0800
TZNAME:PST
DTSTART:20261101T090000
END:STANDARD
END:VTIMEZONE
BEGIN:VEVENT
DTSTART;TZID=America/Los_Angeles:20260402T193000
DTEND;TZID=America/Los_Angeles:20260402T210000
DTSTAMP:20260421T090407
CREATED:20260401T224010Z
LAST-MODIFIED:20260401T224010Z
UID:4213-1775158200-1775163600@noorcollective.org
SUMMARY:Dua Kumayl @ 7:30pm
DESCRIPTION:*Tonight- Dua Kumayl @7:30pm*\n🕢 7:25 PM – Doors Open\n🧎 7:30PM – Prayers\n🎙 7:45PM –  Short talk by Seyed Ali\n🕢 8:00 PM – Dua Kumayl\n🍽 8:45 PM – Light refreshments
URL:https://noorcollective.org/event/dua-kumayl-730pm-2/
CATEGORIES:Lecture
END:VEVENT
END:VCALENDAR