BEGIN:VCALENDAR
VERSION:2.0
PRODID:-//Noor Collective - San Diego Shia Islamic Center - ECPv5.1.6//NONSGML v1.0//EN
CALSCALE:GREGORIAN
METHOD:PUBLISH
X-WR-CALNAME:Noor Collective - San Diego Shia Islamic Center
X-ORIGINAL-URL:https://noorcollective.org
X-WR-CALDESC:Events for Noor Collective - San Diego Shia Islamic Center
BEGIN:VTIMEZONE
TZID:America/Los_Angeles
BEGIN:DAYLIGHT
TZOFFSETFROM:-0800
TZOFFSETTO:-0700
TZNAME:PDT
DTSTART:20250309T100000
END:DAYLIGHT
BEGIN:STANDARD
TZOFFSETFROM:-0700
TZOFFSETTO:-0800
TZNAME:PST
DTSTART:20251102T090000
END:STANDARD
END:VTIMEZONE
BEGIN:VEVENT
DTSTART;TZID=America/Los_Angeles:20250829T193000
DTEND;TZID=America/Los_Angeles:20250829T213000
DTSTAMP:20260421T133620
CREATED:20250829T002444Z
LAST-MODIFIED:20250829T002453Z
UID:4148-1756495800-1756503000@noorcollective.org
SUMMARY:Ehsaan- The Gateway to Paradise Pt. 2 @ 7:30pm
DESCRIPTION:🕖 7:20 PM – Doors open\n🕊 7:30 PM – Ziyarat e Ashura\n🧎 7:50 PM – Prayers\n🎙 8:10 PM – Talk by Seyed Ali + Q&A\n🍽 9:30 PM – Dinner
URL:https://noorcollective.org/event/ehsaan-the-gateway-to-paradise-pt-2-730pm/
CATEGORIES:Lecture
END:VEVENT
END:VCALENDAR