BEGIN:VCALENDAR
VERSION:2.0
PRODID:-//Noor Collective - San Diego Shia Islamic Center - ECPv5.1.6//NONSGML v1.0//EN
CALSCALE:GREGORIAN
METHOD:PUBLISH
X-WR-CALNAME:Noor Collective - San Diego Shia Islamic Center
X-ORIGINAL-URL:https://noorcollective.org
X-WR-CALDESC:Events for Noor Collective - San Diego Shia Islamic Center
BEGIN:VTIMEZONE
TZID:America/Los_Angeles
BEGIN:DAYLIGHT
TZOFFSETFROM:-0800
TZOFFSETTO:-0700
TZNAME:PDT
DTSTART:20180311T100000
END:DAYLIGHT
BEGIN:STANDARD
TZOFFSETFROM:-0700
TZOFFSETTO:-0800
TZNAME:PST
DTSTART:20181104T090000
END:STANDARD
END:VTIMEZONE
BEGIN:VEVENT
DTSTART;TZID=America/Los_Angeles:20180831T200000
DTEND;TZID=America/Los_Angeles:20180831T220000
DTSTAMP:20260421T165422
CREATED:20180830T121501Z
LAST-MODIFIED:20180830T121501Z
UID:2495-1535745600-1535752800@noorcollective.org
SUMMARY:Eid-al Ghadeer & The Story of Prophet Ibrahim and Ismail Part 2
DESCRIPTION:Eid Mubarak to all of you as we celebrate the holy occasion of Eid-al Ghadeer\, the day when Prophet Muhammad [PBUH] announced the selection of Imam Ali [PBUH] as his successor. If anyone would like to bring dessert to celebrate this occasion\, feel free to do so. \nSchedule:\n8:00 PM: Prayers\n8:25PM: Speech by Sayed Ali / Q&A\n9:25PM: Dinner
URL:https://noorcollective.org/event/eid-al-ghadeer-story-prophet-ibrahim-ismail-part-2/
LOCATION:Noor Collective\, 7969 ENGINEER RD #110\, San diego\, CA\, 92111\, United States
CATEGORIES:Lecture
ATTACH;FMTTYPE=image/png:https://noorcollective.org/wp-content/uploads/YMA_AUG31_2018.png
ORGANIZER;CN="Noor%20Collective":MAILTO:sourceseyed@gmail.com
END:VEVENT
END:VCALENDAR