BEGIN:VCALENDAR
VERSION:2.0
PRODID:-//Noor Collective - San Diego Shia Islamic Center - ECPv5.1.6//NONSGML v1.0//EN
CALSCALE:GREGORIAN
METHOD:PUBLISH
X-WR-CALNAME:Noor Collective - San Diego Shia Islamic Center
X-ORIGINAL-URL:https://noorcollective.org
X-WR-CALDESC:Events for Noor Collective - San Diego Shia Islamic Center
BEGIN:VTIMEZONE
TZID:America/Los_Angeles
BEGIN:DAYLIGHT
TZOFFSETFROM:-0800
TZOFFSETTO:-0700
TZNAME:PDT
DTSTART:20170312T100000
END:DAYLIGHT
BEGIN:STANDARD
TZOFFSETFROM:-0700
TZOFFSETTO:-0800
TZNAME:PST
DTSTART:20171105T090000
END:STANDARD
END:VTIMEZONE
BEGIN:VEVENT
DTSTART;TZID=America/Los_Angeles:20170210T190000
DTEND;TZID=America/Los_Angeles:20170210T213000
DTSTAMP:20260421T120813
CREATED:20170124T073352Z
LAST-MODIFIED:20170209T071651Z
UID:1560-1486753200-1486762200@noorcollective.org
SUMMARY:Events Surrounding The Last Parts of Lady Fatimah's Life
DESCRIPTION:What happened in the last few months of Lady Fatimah’s life? Have you ever wondered why we know where all the early Muslim Companions are buried\, but we don’t know where the grave of Lady Fatimah is? Find out all this and more at this week’s lecture by Br. Sarmad Ashoor.
URL:https://noorcollective.org/event/events-surrounding-the-last-parts-of-lady-fatimahs-life/
LOCATION:Noor Collective\, 7969 ENGINEER RD #110\, San diego\, CA\, 92111\, United States
CATEGORIES:Lecture
ATTACH;FMTTYPE=image/jpeg:https://noorcollective.org/wp-content/uploads/death_anniversary-of_fatima-5.jpeg
ORGANIZER;CN="Noor%20Collective":MAILTO:sourceseyed@gmail.com
END:VEVENT
END:VCALENDAR