BEGIN:VCALENDAR
VERSION:2.0
PRODID:-//Noor Collective - San Diego Shia Islamic Center - ECPv5.1.6//NONSGML v1.0//EN
CALSCALE:GREGORIAN
METHOD:PUBLISH
X-WR-CALNAME:Noor Collective - San Diego Shia Islamic Center
X-ORIGINAL-URL:https://noorcollective.org
X-WR-CALDESC:Events for Noor Collective - San Diego Shia Islamic Center
BEGIN:VTIMEZONE
TZID:America/Los_Angeles
BEGIN:DAYLIGHT
TZOFFSETFROM:-0800
TZOFFSETTO:-0700
TZNAME:PDT
DTSTART:20220313T100000
END:DAYLIGHT
BEGIN:STANDARD
TZOFFSETFROM:-0700
TZOFFSETTO:-0800
TZNAME:PST
DTSTART:20221106T090000
END:STANDARD
END:VTIMEZONE
BEGIN:VEVENT
DTSTART;TZID=America/Los_Angeles:20220204T190000
DTEND;TZID=America/Los_Angeles:20220204T200000
DTSTAMP:20260422T180805
CREATED:20220127T071751Z
LAST-MODIFIED:20220208T043909Z
UID:3382-1644001200-1644004800@noorcollective.org
SUMMARY:Exploring Negative Thinking Patterns
DESCRIPTION:Join us this week as we explore the concept of negative thinking patterns. How can we avoid falling into this trap\, and just as importantly\, how do we deal with this issue in others—-particularly those that we live with? How does the Quran and the Ahlul Bayt deal with this issue? \nSchedule: \n7:00pm PST: Speech/Q&A \nhttps://us02web.zoom.us/j/81346190467?pwd=NzdQb1EyU2kxVEwzL2xRbDRNVGpDZz09 \nMeeting ID: \n\n\n\n\n\n813 4619 0467\n\n\n\n\n\nPasscode: 384397
URL:https://noorcollective.org/event/exploring-negative-thinking-patterns/
CATEGORIES:Lecture
ATTACH;FMTTYPE=image/png:https://noorcollective.org/wp-content/uploads/YMA_JAN28_2022.png
END:VEVENT
END:VCALENDAR