BEGIN:VCALENDAR
VERSION:2.0
PRODID:-//Noor Collective - San Diego Shia Islamic Center - ECPv5.1.6//NONSGML v1.0//EN
CALSCALE:GREGORIAN
METHOD:PUBLISH
X-WR-CALNAME:Noor Collective - San Diego Shia Islamic Center
X-ORIGINAL-URL:https://noorcollective.org
X-WR-CALDESC:Events for Noor Collective - San Diego Shia Islamic Center
BEGIN:VTIMEZONE
TZID:America/Los_Angeles
BEGIN:DAYLIGHT
TZOFFSETFROM:-0800
TZOFFSETTO:-0700
TZNAME:PDT
DTSTART:20200308T100000
END:DAYLIGHT
BEGIN:STANDARD
TZOFFSETFROM:-0700
TZOFFSETTO:-0800
TZNAME:PST
DTSTART:20201101T090000
END:STANDARD
END:VTIMEZONE
BEGIN:VEVENT
DTSTART;TZID=America/Los_Angeles:20200110T190000
DTEND;TZID=America/Los_Angeles:20200110T210000
DTSTAMP:20260424T194303
CREATED:20200108T213206Z
LAST-MODIFIED:20200108T213839Z
UID:2853-1578682800-1578690000@noorcollective.org
SUMMARY:Lady Fatimah and her role after the death of the Prophet
DESCRIPTION:In this week’s program\, we will be discussing the role Fatimah (as) played after the death of the Prophet(as). What did she do?  How did people react to her? What is the importance of Fadak to the khilafah of Amirul Momineen(as)? We will be answering all these and more.\n\n\n\n\n\n\nSchedule:\n7:00 PM : Isha Prayers\n7:20 PM : Speech / Q&A\n8:30 PM: Dinner
URL:https://noorcollective.org/event/fatimah-pbuh-and-her-role-after-the-death-of-the-prophet-pbuh/
LOCATION:Noor Collective\, 7969 ENGINEER RD #110\, San diego\, CA\, 92111\, United States
CATEGORIES:Lecture
ATTACH;FMTTYPE=image/png:https://noorcollective.org/wp-content/uploads/YMA_JAN10_2020.png
END:VEVENT
END:VCALENDAR