BEGIN:VCALENDAR
VERSION:2.0
PRODID:-//Noor Collective - San Diego Shia Islamic Center - ECPv5.1.6//NONSGML v1.0//EN
CALSCALE:GREGORIAN
METHOD:PUBLISH
X-WR-CALNAME:Noor Collective - San Diego Shia Islamic Center
X-ORIGINAL-URL:https://noorcollective.org
X-WR-CALDESC:Events for Noor Collective - San Diego Shia Islamic Center
BEGIN:VTIMEZONE
TZID:America/Los_Angeles
BEGIN:DAYLIGHT
TZOFFSETFROM:-0800
TZOFFSETTO:-0700
TZNAME:PDT
DTSTART:20170312T100000
END:DAYLIGHT
BEGIN:STANDARD
TZOFFSETFROM:-0700
TZOFFSETTO:-0800
TZNAME:PST
DTSTART:20171105T090000
END:STANDARD
END:VTIMEZONE
BEGIN:VEVENT
DTSTART;TZID=America/Los_Angeles:20170304T130000
DTEND;TZID=America/Los_Angeles:20170304T163000
DTSTAMP:20260421T133923
CREATED:20170218T070430Z
LAST-MODIFIED:20170225T005659Z
UID:1828-1488632400-1488645000@noorcollective.org
SUMMARY:Feed The Homeless
DESCRIPTION:And they are those who give food – in spite of their own need \, to the needy\, and the orphan\, and the captive\, [saying in their hearts]\, ‘We only feed you for the sake of God\, and we desire nothing in return from you\, not even a word of thanks.’ (Quran 76:8-9). \nGive to the near of kin his due\, and also to the needy and the wayfarers. (17:26 – 27) \nThe Holy Quran repeatedly tells us to feed the homeless and all those in need. \n\n\nIn this program\, we will be making 150 ready to eat\, nutritious meals and then going downtown to pass them out to the homeless.
URL:https://noorcollective.org/event/feed-the-homeless/
LOCATION:Noor Collective\, 7969 ENGINEER RD #110\, San diego\, CA\, 92111\, United States
ATTACH;FMTTYPE=image/jpeg:https://noorcollective.org/wp-content/uploads/WhatsApp-Image-2017-01-11-at-11.14.45-AM-1.jpeg
END:VEVENT
END:VCALENDAR