BEGIN:VCALENDAR
VERSION:2.0
PRODID:-//Noor Collective - San Diego Shia Islamic Center - ECPv5.1.6//NONSGML v1.0//EN
CALSCALE:GREGORIAN
METHOD:PUBLISH
X-WR-CALNAME:Noor Collective - San Diego Shia Islamic Center
X-ORIGINAL-URL:https://noorcollective.org
X-WR-CALDESC:Events for Noor Collective - San Diego Shia Islamic Center
BEGIN:VTIMEZONE
TZID:America/Los_Angeles
BEGIN:DAYLIGHT
TZOFFSETFROM:-0800
TZOFFSETTO:-0700
TZNAME:PDT
DTSTART:20230312T100000
END:DAYLIGHT
BEGIN:STANDARD
TZOFFSETFROM:-0700
TZOFFSETTO:-0800
TZNAME:PST
DTSTART:20231105T090000
END:STANDARD
END:VTIMEZONE
BEGIN:VEVENT
DTSTART;TZID=America/Los_Angeles:20230113T190000
DTEND;TZID=America/Los_Angeles:20230113T200000
DTSTAMP:20260422T150615
CREATED:20230110T173505Z
LAST-MODIFIED:20230110T173524Z
UID:3521-1673636400-1673640000@noorcollective.org
SUMMARY:Finding the Stillness Within- The Search for Tranquility
DESCRIPTION:In a world of motion and uncertainty\, the human being seeks peace and quiet. Islam has given us some concrete steps towards developing this tranquility within ourselves. Come join us this Friday as we look at some techniques and ideas on how to find the stillness within… \nZoom link: https://us02web.zoom.us/j/85016107896?pwd=N0hIOFZUaHhLK0tHMlBaaWExQXBmUT09\nMeeting ID: 850 1610 7896\nPasscode: 571355
URL:https://noorcollective.org/event/finding-the-stillness-within-the-search-for-tranquility/
CATEGORIES:Lecture
ATTACH;FMTTYPE=image/png:https://noorcollective.org/wp-content/uploads/unnamed-6.png
END:VEVENT
END:VCALENDAR