BEGIN:VCALENDAR
VERSION:2.0
PRODID:-//Noor Collective - San Diego Shia Islamic Center - ECPv5.1.6//NONSGML v1.0//EN
CALSCALE:GREGORIAN
METHOD:PUBLISH
X-WR-CALNAME:Noor Collective - San Diego Shia Islamic Center
X-ORIGINAL-URL:https://noorcollective.org
X-WR-CALDESC:Events for Noor Collective - San Diego Shia Islamic Center
BEGIN:VTIMEZONE
TZID:America/Los_Angeles
BEGIN:DAYLIGHT
TZOFFSETFROM:-0800
TZOFFSETTO:-0700
TZNAME:PDT
DTSTART:20180311T100000
END:DAYLIGHT
BEGIN:STANDARD
TZOFFSETFROM:-0700
TZOFFSETTO:-0800
TZNAME:PST
DTSTART:20181104T090000
END:STANDARD
END:VTIMEZONE
BEGIN:VEVENT
DTSTART;TZID=America/Los_Angeles:20180119T190000
DTEND;TZID=America/Los_Angeles:20180119T213000
DTSTAMP:20260424T040954
CREATED:20180119T065348Z
LAST-MODIFIED:20180119T065348Z
UID:2200-1516388400-1516397400@noorcollective.org
SUMMARY:A Fresh Look at the Qur'an
DESCRIPTION:The Qur’an is a universal book revealed by God for all peoples and all times. How can we benefit from the Qur’an in the times that we live in? Join us for a new approach to Qur’anic tafsir that is exciting\, engaging\, as well as educational\, informative\, and practical.\n\nProgram will begin at 7:00PM
URL:https://noorcollective.org/event/fresh-look-quran/
LOCATION:Noor Collective\, 7969 ENGINEER RD #110\, San diego\, CA\, 92111\, United States
CATEGORIES:Lecture
ATTACH;FMTTYPE=image/jpeg:https://noorcollective.org/wp-content/uploads/26758163_1711191188938251_5319789441178976494_o.jpg
ORGANIZER;CN="Noor%20Collective":MAILTO:sourceseyed@gmail.com
END:VEVENT
END:VCALENDAR