BEGIN:VCALENDAR
VERSION:2.0
PRODID:-//Noor Collective - San Diego Shia Islamic Center - ECPv5.1.6//NONSGML v1.0//EN
CALSCALE:GREGORIAN
METHOD:PUBLISH
X-WR-CALNAME:Noor Collective - San Diego Shia Islamic Center
X-ORIGINAL-URL:https://noorcollective.org
X-WR-CALDESC:Events for Noor Collective - San Diego Shia Islamic Center
BEGIN:VTIMEZONE
TZID:America/Los_Angeles
BEGIN:DAYLIGHT
TZOFFSETFROM:-0800
TZOFFSETTO:-0700
TZNAME:PDT
DTSTART:20240310T100000
END:DAYLIGHT
BEGIN:STANDARD
TZOFFSETFROM:-0700
TZOFFSETTO:-0800
TZNAME:PST
DTSTART:20241103T090000
END:STANDARD
END:VTIMEZONE
BEGIN:VEVENT
DTSTART;TZID=America/Los_Angeles:20240830T193000
DTEND;TZID=America/Los_Angeles:20240830T210000
DTSTAMP:20260422T013843
CREATED:20240830T133154Z
LAST-MODIFIED:20240830T133624Z
UID:3911-1725046200-1725051600@noorcollective.org
SUMMARY:Friday Night Lecture with Sayed Abbas Razavian
DESCRIPTION:Please join us tonight at 7:30PM as we will be blessed with the presence of our guest scholar Sayed Abbas Razavian. \nThe program will be held at: 7969 ENGINEER RD #110\, SAN DIEGO\, CA 92111 https://goo.gl/maps/i2HTdSVmLKjW25XR8\nStreet parking is preferred but if not available park inside the complex. Do not park with spots that have cones in front of them as those are reserved. \nSchedule:\n7:20pm: Doors Open\n7:30pm: Prayers\n7:45pm: Speech by Sayyed Abbas/Eulogies\n9:00pm: Dinner \nSpeaker Bio:\nSayed Abbas Razavian grew up in the greater Los Angeles area. He received his bachelor’s degree in business administration from the Marshall School of Business at the University of Southern California in 2001. At the age of 21\, he moved to Iran where he spent nearly 2 decades studying Islam in depth.
URL:https://noorcollective.org/event/friday-night-lecture-with-sayed-abbas-razavian/
CATEGORIES:Lecture
ATTACH;FMTTYPE=image/jpeg:https://noorcollective.org/wp-content/uploads/WhatsApp-Image-2024-08-28-at-05.35.44_5aa5b167.jpg
END:VEVENT
END:VCALENDAR