BEGIN:VCALENDAR
VERSION:2.0
PRODID:-//Noor Collective - San Diego Shia Islamic Center - ECPv5.1.6//NONSGML v1.0//EN
CALSCALE:GREGORIAN
METHOD:PUBLISH
X-WR-CALNAME:Noor Collective - San Diego Shia Islamic Center
X-ORIGINAL-URL:https://noorcollective.org
X-WR-CALDESC:Events for Noor Collective - San Diego Shia Islamic Center
BEGIN:VTIMEZONE
TZID:America/Los_Angeles
BEGIN:DAYLIGHT
TZOFFSETFROM:-0800
TZOFFSETTO:-0700
TZNAME:PDT
DTSTART:20250309T100000
END:DAYLIGHT
BEGIN:STANDARD
TZOFFSETFROM:-0700
TZOFFSETTO:-0800
TZNAME:PST
DTSTART:20251102T090000
END:STANDARD
END:VTIMEZONE
BEGIN:VEVENT
DTSTART;TZID=America/Los_Angeles:20250228T190000
DTEND;TZID=America/Los_Angeles:20250228T203000
DTSTAMP:20260421T190414
CREATED:20250227T210348Z
LAST-MODIFIED:20250227T212710Z
UID:4045-1740769200-1740774600@noorcollective.org
SUMMARY:Friday Night Program with Shaykh Mahdi Mohammadpour @7:00pm
DESCRIPTION:Schedule:\n7:00pm: Isha Prayer\n7:10pm: Quran\n7:15pm: Lecture / Q&A\n8:30pm: Dinner
URL:https://noorcollective.org/event/friday-night-program-with-shaykh-mahdi-mommadpour-700pm/
CATEGORIES:Lecture
END:VEVENT
END:VCALENDAR