BEGIN:VCALENDAR
VERSION:2.0
PRODID:-//Noor Collective - San Diego Shia Islamic Center - ECPv5.1.6//NONSGML v1.0//EN
CALSCALE:GREGORIAN
METHOD:PUBLISH
X-WR-CALNAME:Noor Collective - San Diego Shia Islamic Center
X-ORIGINAL-URL:https://noorcollective.org
X-WR-CALDESC:Events for Noor Collective - San Diego Shia Islamic Center
BEGIN:VTIMEZONE
TZID:America/Los_Angeles
BEGIN:DAYLIGHT
TZOFFSETFROM:-0800
TZOFFSETTO:-0700
TZNAME:PDT
DTSTART:20170312T100000
END:DAYLIGHT
BEGIN:STANDARD
TZOFFSETFROM:-0700
TZOFFSETTO:-0800
TZNAME:PST
DTSTART:20171105T090000
END:STANDARD
END:VTIMEZONE
BEGIN:VEVENT
DTSTART;TZID=America/Los_Angeles:20171020T190000
DTEND;TZID=America/Los_Angeles:20171020T213000
DTSTAMP:20260421T190529
CREATED:20171012T204100Z
LAST-MODIFIED:20171012T204100Z
UID:2121-1508526000-1508535000@noorcollective.org
SUMMARY:Generosity in Islam: Quranic Verses and Hadiths
DESCRIPTION:We have a hadith in which Imam Ali and his family [Peace be upon them] gave away all their food and went hungry for three days straight. In light of that\, can someone be too generous? If so\, what is the right balance? Is giving khums considered being generous? \n\n\n \n\n\nSchedule:\n\n\n7:00PM Sharp: Maghrib & Isha Prayers\n\n\n7:30PM Lecture by Br. Sarmad / Q&A\n\n\n8:30PM: Dinner / Socializing.
URL:https://noorcollective.org/event/generosity-islam-quranic-verses-hadiths/
LOCATION:Noor Collective\, 7969 ENGINEER RD #110\, San diego\, CA\, 92111\, United States
CATEGORIES:Lecture
ORGANIZER;CN="Noor%20Collective":MAILTO:sourceseyed@gmail.com
END:VEVENT
END:VCALENDAR