BEGIN:VCALENDAR
VERSION:2.0
PRODID:-//Noor Collective - San Diego Shia Islamic Center - ECPv5.1.6//NONSGML v1.0//EN
CALSCALE:GREGORIAN
METHOD:PUBLISH
X-WR-CALNAME:Noor Collective - San Diego Shia Islamic Center
X-ORIGINAL-URL:https://noorcollective.org
X-WR-CALDESC:Events for Noor Collective - San Diego Shia Islamic Center
BEGIN:VTIMEZONE
TZID:America/Los_Angeles
BEGIN:DAYLIGHT
TZOFFSETFROM:-0800
TZOFFSETTO:-0700
TZNAME:PDT
DTSTART:20210314T100000
END:DAYLIGHT
BEGIN:STANDARD
TZOFFSETFROM:-0700
TZOFFSETTO:-0800
TZNAME:PST
DTSTART:20211107T090000
END:STANDARD
END:VTIMEZONE
BEGIN:VEVENT
DTSTART;TZID=America/Los_Angeles:20210730T190000
DTEND;TZID=America/Los_Angeles:20210730T200000
DTSTAMP:20260422T035706
CREATED:20210729T052942Z
LAST-MODIFIED:20210729T190850Z
UID:3320-1627671600-1627675200@noorcollective.org
SUMMARY:Ghadeer - The Eid of Love and Loyalty
DESCRIPTION:This week\, we will be discussing the Event of Ghadeer and how it affected the course of Muslim history. How was it that in spite of the clear instructions of the Prophet (s)\, so many people refused to stand up for the rights of Imam Ali? Do any of these factors exist in our communities or even within us today? Finally\, we will look at some of the closest companions of the Imam and how they supported him after the death of the Prophet (s). \nSchedule: \n7:00PM PST: Speech/Q&A by Seyed Ali \nOnline Zoom Link:  https://us02web.zoom.us/j/85701819379?pwd=MEpoRGpaRHhzRG01Ti9LZFEvLzlnQT09 \nPassword: 088225 \nMeeting Id: 857 0181 9379
URL:https://noorcollective.org/event/ghadeer-the-completion-of-our-religion/
CATEGORIES:Lecture
END:VEVENT
END:VCALENDAR