BEGIN:VCALENDAR
VERSION:2.0
PRODID:-//Noor Collective - San Diego Shia Islamic Center - ECPv5.1.6//NONSGML v1.0//EN
CALSCALE:GREGORIAN
METHOD:PUBLISH
X-WR-CALNAME:Noor Collective - San Diego Shia Islamic Center
X-ORIGINAL-URL:https://noorcollective.org
X-WR-CALDESC:Events for Noor Collective - San Diego Shia Islamic Center
BEGIN:VTIMEZONE
TZID:America/Los_Angeles
BEGIN:DAYLIGHT
TZOFFSETFROM:-0800
TZOFFSETTO:-0700
TZNAME:PDT
DTSTART:20180311T100000
END:DAYLIGHT
BEGIN:STANDARD
TZOFFSETFROM:-0700
TZOFFSETTO:-0800
TZNAME:PST
DTSTART:20181104T090000
END:STANDARD
END:VTIMEZONE
BEGIN:VEVENT
DTSTART;TZID=America/Los_Angeles:20180803T200000
DTEND;TZID=America/Los_Angeles:20180803T200000
DTSTAMP:20260421T120313
CREATED:20180801T175925Z
LAST-MODIFIED:20180801T175925Z
UID:2475-1533326400-1533326400@noorcollective.org
SUMMARY:What Happens When We Die? Part 1
DESCRIPTION:Join us for a 3-part series of lectures (over the next 3 Fridays) on death and everything related to it. Come through this Friday night to learn about what happens when we die? What happens to our soul? Islamically speaking\, what is death? How should one prepare for death\, etc. You’ll also get a chance to do a Q&A after the speech\, so come prepared with your questions! \n\n\n \n\n\nSchedule: \n\n\n8:00 PM: Maghrib/Isha Prayers\n\n\n8:25 PM: Lecture/Q&A\n\n\n9:25PM : Dinner
URL:https://noorcollective.org/event/happens-die-part-1/
LOCATION:Noor Collective\, 7969 ENGINEER RD #110\, San diego\, CA\, 92111\, United States
CATEGORIES:Lecture
ORGANIZER;CN="Noor%20Collective":MAILTO:sourceseyed@gmail.com
END:VEVENT
END:VCALENDAR