BEGIN:VCALENDAR
VERSION:2.0
PRODID:-//Noor Collective - San Diego Shia Islamic Center - ECPv5.1.6//NONSGML v1.0//EN
CALSCALE:GREGORIAN
METHOD:PUBLISH
X-WR-CALNAME:Noor Collective - San Diego Shia Islamic Center
X-ORIGINAL-URL:https://noorcollective.org
X-WR-CALDESC:Events for Noor Collective - San Diego Shia Islamic Center
BEGIN:VTIMEZONE
TZID:America/Los_Angeles
BEGIN:DAYLIGHT
TZOFFSETFROM:-0800
TZOFFSETTO:-0700
TZNAME:PDT
DTSTART:20210314T100000
END:DAYLIGHT
BEGIN:STANDARD
TZOFFSETFROM:-0700
TZOFFSETTO:-0800
TZNAME:PST
DTSTART:20211107T090000
END:STANDARD
END:VTIMEZONE
BEGIN:VEVENT
DTSTART;TZID=America/Los_Angeles:20210611T190000
DTEND;TZID=America/Los_Angeles:20210611T190000
DTSTAMP:20260421T152253
CREATED:20210608T040517Z
LAST-MODIFIED:20210608T040632Z
UID:3266-1623438000-1623438000@noorcollective.org
SUMMARY:Imam Jafar Sadiq — A Life Beautifully Lived
DESCRIPTION:This week’s program is online only: \nJoin us during this week’s program as we explore some important\, but often undiscussed aspects of the Imam’s life. In light of the Imam’s legacy of gaining and spreading knowledge\, what have we got right and what have we missed. In addition to Imam Sadiq’s legacy of spreading knowledge\, what was he doing which created such fear in the caliphs of his time that they ultimately had him murdered? Join us this Friday\, as we go through these concepts and more… \nSchedule: \n7:00PM PST: Speech/Q&A by Seyed Ali \nOnline Zoom Link: https://us02web.zoom.us/j/89860452075?pwd=T1dmcllxaThFNzlGN3ZzSHBvRHJCQT09 \nPassword: 505946 \nMeeting Id:   898 6045 2075
URL:https://noorcollective.org/event/imam-jafar-sadiq-a-life-beautifully-lived/
CATEGORIES:Lecture
END:VEVENT
END:VCALENDAR