BEGIN:VCALENDAR
VERSION:2.0
PRODID:-//Noor Collective - San Diego Shia Islamic Center - ECPv5.1.6//NONSGML v1.0//EN
CALSCALE:GREGORIAN
METHOD:PUBLISH
X-WR-CALNAME:Noor Collective - San Diego Shia Islamic Center
X-ORIGINAL-URL:https://noorcollective.org
X-WR-CALDESC:Events for Noor Collective - San Diego Shia Islamic Center
BEGIN:VTIMEZONE
TZID:America/Los_Angeles
BEGIN:DAYLIGHT
TZOFFSETFROM:-0800
TZOFFSETTO:-0700
TZNAME:PDT
DTSTART:20170312T100000
END:DAYLIGHT
BEGIN:STANDARD
TZOFFSETFROM:-0700
TZOFFSETTO:-0800
TZNAME:PST
DTSTART:20171105T090000
END:STANDARD
END:VTIMEZONE
BEGIN:VEVENT
DTSTART;TZID=America/Los_Angeles:20170224T190000
DTEND;TZID=America/Los_Angeles:20170224T213000
DTSTAMP:20260421T120537
CREATED:20170124T074126Z
LAST-MODIFIED:20170224T074623Z
UID:1566-1487962800-1487971800@noorcollective.org
SUMMARY:Into The Lives Of Our Community Members: Career Panel
DESCRIPTION:We will be having another panel showcasing the career paths of 3 of our community members: Br. Faizan Masood\, Br. Moeen Parsi\, and Sr. Patricia Capitaine. They will also be talking about how they serve Islam by their choice of careers.
URL:https://noorcollective.org/event/into-the-lives-of-our-community-members-career-panel/
LOCATION:Noor Collective\, 7969 ENGINEER RD #110\, San diego\, CA\, 92111\, United States
CATEGORIES:Lecture
ATTACH;FMTTYPE=image/png:https://noorcollective.org/wp-content/uploads/YMA_FEB22_2017.png
ORGANIZER;CN="Noor%20Collective":MAILTO:sourceseyed@gmail.com
END:VEVENT
END:VCALENDAR