BEGIN:VCALENDAR
VERSION:2.0
PRODID:-//Noor Collective - San Diego Shia Islamic Center - ECPv5.1.6//NONSGML v1.0//EN
CALSCALE:GREGORIAN
METHOD:PUBLISH
X-WR-CALNAME:Noor Collective - San Diego Shia Islamic Center
X-ORIGINAL-URL:https://noorcollective.org
X-WR-CALDESC:Events for Noor Collective - San Diego Shia Islamic Center
BEGIN:VTIMEZONE
TZID:America/Los_Angeles
BEGIN:DAYLIGHT
TZOFFSETFROM:-0800
TZOFFSETTO:-0700
TZNAME:PDT
DTSTART:20230312T100000
END:DAYLIGHT
BEGIN:STANDARD
TZOFFSETFROM:-0700
TZOFFSETTO:-0800
TZNAME:PST
DTSTART:20231105T090000
END:STANDARD
END:VTIMEZONE
BEGIN:VEVENT
DTSTART;TZID=America/Los_Angeles:20230602T190000
DTEND;TZID=America/Los_Angeles:20230602T190000
DTSTAMP:20260422T123416
CREATED:20230601T001145Z
LAST-MODIFIED:20230601T001229Z
UID:3574-1685732400-1685732400@noorcollective.org
SUMMARY:Islam and Gender Identity
DESCRIPTION:Join us on Friday at 6:45pm as Seyed Ali goes over Gender Identity in Islam. This will be at our new location: 7969 ENGINEER RD #110\, SAN DIEGO\, CA 92111 https://goo.gl/maps/i2HTdSVmLKjW25XR8 \nStreet parking is preferred but if not available park inside the complex. Do not park with spots that have cones in front of them as those are reserved. \nSchedule:\n6:45pm: Door Opens\n7:00pm: Lecture by Seyed Ali Musawi\n7:40pm: Prayers\n8:00pm: Light Dinner
URL:https://noorcollective.org/event/islam-and-gender-identity/
CATEGORIES:Lecture
ATTACH;FMTTYPE=image/png:https://noorcollective.org/wp-content/uploads/YMA_JUN2_2023.png
END:VEVENT
END:VCALENDAR