BEGIN:VCALENDAR
VERSION:2.0
PRODID:-//Noor Collective - San Diego Shia Islamic Center - ECPv5.1.6//NONSGML v1.0//EN
CALSCALE:GREGORIAN
METHOD:PUBLISH
X-WR-CALNAME:Noor Collective - San Diego Shia Islamic Center
X-ORIGINAL-URL:https://noorcollective.org
X-WR-CALDESC:Events for Noor Collective - San Diego Shia Islamic Center
BEGIN:VTIMEZONE
TZID:America/Los_Angeles
BEGIN:DAYLIGHT
TZOFFSETFROM:-0800
TZOFFSETTO:-0700
TZNAME:PDT
DTSTART:20190310T100000
END:DAYLIGHT
BEGIN:STANDARD
TZOFFSETFROM:-0700
TZOFFSETTO:-0800
TZNAME:PST
DTSTART:20191103T090000
END:STANDARD
END:VTIMEZONE
BEGIN:VEVENT
DTSTART;TZID=America/Los_Angeles:20190208T190000
DTEND;TZID=America/Los_Angeles:20190208T210000
DTSTAMP:20260424T031436
CREATED:20190127T205300Z
LAST-MODIFIED:20190127T205300Z
UID:2568-1549652400-1549659600@noorcollective.org
SUMMARY:Islam and Love [2 of 2]
DESCRIPTION:Join us as we continue our in-depth discussion on love within Islam. \nProgram begins at 7pm.
URL:https://noorcollective.org/event/islam-love-2-2/
LOCATION:Noor Collective\, 7969 ENGINEER RD #110\, San diego\, CA\, 92111\, United States
CATEGORIES:Lecture
ORGANIZER;CN="Noor%20Collective":MAILTO:sourceseyed@gmail.com
END:VEVENT
END:VCALENDAR