BEGIN:VCALENDAR
VERSION:2.0
PRODID:-//Noor Collective - San Diego Shia Islamic Center - ECPv5.1.6//NONSGML v1.0//EN
CALSCALE:GREGORIAN
METHOD:PUBLISH
X-WR-CALNAME:Noor Collective - San Diego Shia Islamic Center
X-ORIGINAL-URL:https://noorcollective.org
X-WR-CALDESC:Events for Noor Collective - San Diego Shia Islamic Center
BEGIN:VTIMEZONE
TZID:America/Los_Angeles
BEGIN:DAYLIGHT
TZOFFSETFROM:-0800
TZOFFSETTO:-0700
TZNAME:PDT
DTSTART:20230312T100000
END:DAYLIGHT
BEGIN:STANDARD
TZOFFSETFROM:-0700
TZOFFSETTO:-0800
TZNAME:PST
DTSTART:20231105T090000
END:STANDARD
END:VTIMEZONE
BEGIN:VEVENT
DTSTART;TZID=America/Los_Angeles:20230210T190000
DTEND;TZID=America/Los_Angeles:20230210T200000
DTSTAMP:20260422T151718
CREATED:20230209T205827Z
LAST-MODIFIED:20230209T210120Z
UID:3531-1676055600-1676059200@noorcollective.org
SUMMARY:Islamic Health Prescriptions- A look at Islam and Health Pt 3
DESCRIPTION:Join us this Friday at 7pm PST as we continue our deep dive into the Islamic prescriptions of health… \nZoom link: https://us02web.zoom.us/j/85016107896?pwd=N0hIOFZUaHhLK0tHMlBaaWExQXBmUT09\nMeeting ID: 850 1610 7896\nPasscode: 571355
URL:https://noorcollective.org/event/islamic-health-prescriptions-a-look-at-islam-and-health-pt-3/
CATEGORIES:Lecture
ATTACH;FMTTYPE=image/png:https://noorcollective.org/wp-content/uploads/YMA_JAN27_2023-1.png
END:VEVENT
END:VCALENDAR