BEGIN:VCALENDAR
VERSION:2.0
PRODID:-//Noor Collective - San Diego Shia Islamic Center - ECPv5.1.6//NONSGML v1.0//EN
CALSCALE:GREGORIAN
METHOD:PUBLISH
X-WR-CALNAME:Noor Collective - San Diego Shia Islamic Center
X-ORIGINAL-URL:https://noorcollective.org
X-WR-CALDESC:Events for Noor Collective - San Diego Shia Islamic Center
BEGIN:VTIMEZONE
TZID:America/Los_Angeles
BEGIN:DAYLIGHT
TZOFFSETFROM:-0800
TZOFFSETTO:-0700
TZNAME:PDT
DTSTART:20170312T100000
END:DAYLIGHT
BEGIN:STANDARD
TZOFFSETFROM:-0700
TZOFFSETTO:-0800
TZNAME:PST
DTSTART:20171105T090000
END:STANDARD
END:VTIMEZONE
BEGIN:VEVENT
DTSTART;TZID=America/Los_Angeles:20171124T190000
DTEND;TZID=America/Los_Angeles:20171124T220000
DTSTAMP:20260422T032922
CREATED:20171113T202035Z
LAST-MODIFIED:20171113T202035Z
UID:2142-1511550000-1511560800@noorcollective.org
SUMMARY:Islamic Jeopardy
DESCRIPTION:Like Islam (we certainly hope you do)? Like Jeopardy? Combine the two in this week’s Jeopardy game! Winners get some awesome prizes.\n\nP.S Questions may include both Islamic and non-Islamic questions as well.\n\nSchedule:\n7:00PM: Quran/Dua\n7:15PM: Jeopardy\n8:15PM: Dinner
URL:https://noorcollective.org/event/islamic-jeopardy/
LOCATION:Noor Collective\, 7969 ENGINEER RD #110\, San diego\, CA\, 92111\, United States
CATEGORIES:Meetings
ORGANIZER;CN="Noor%20Collective":MAILTO:sourceseyed@gmail.com
END:VEVENT
END:VCALENDAR