BEGIN:VCALENDAR
VERSION:2.0
PRODID:-//Noor Collective - San Diego Shia Islamic Center - ECPv5.1.6//NONSGML v1.0//EN
CALSCALE:GREGORIAN
METHOD:PUBLISH
X-WR-CALNAME:Noor Collective - San Diego Shia Islamic Center
X-ORIGINAL-URL:https://noorcollective.org
X-WR-CALDESC:Events for Noor Collective - San Diego Shia Islamic Center
BEGIN:VTIMEZONE
TZID:America/Los_Angeles
BEGIN:DAYLIGHT
TZOFFSETFROM:-0800
TZOFFSETTO:-0700
TZNAME:PDT
DTSTART:20170312T100000
END:DAYLIGHT
BEGIN:STANDARD
TZOFFSETFROM:-0700
TZOFFSETTO:-0800
TZNAME:PST
DTSTART:20171105T090000
END:STANDARD
END:VTIMEZONE
BEGIN:VEVENT
DTSTART;TZID=America/Los_Angeles:20171201T190000
DTEND;TZID=America/Los_Angeles:20171201T213000
DTSTAMP:20260422T045535
CREATED:20171113T202956Z
LAST-MODIFIED:20171113T202956Z
UID:2144-1512154800-1512163800@noorcollective.org
SUMMARY:Islam's Take on Feminism and Liberalism?
DESCRIPTION:We hear so much about Feminism and Liberal ideaology on Social Media and various other sites. Yet\, what is Islam’s take on both these topics? Was Prophet Muhammad the first feminist? \n  \nSchedule: \n7:00PM: Quran/Dua \n7:15PM: Speech by Sayed Ali  / Q&A \n8:15PM: Dinner
URL:https://noorcollective.org/event/islams-take-feminism-liberalism/
LOCATION:Noor Collective\, 7969 ENGINEER RD #110\, San diego\, CA\, 92111\, United States
CATEGORIES:Lecture
ORGANIZER;CN="Noor%20Collective":MAILTO:sourceseyed@gmail.com
END:VEVENT
END:VCALENDAR