BEGIN:VCALENDAR
VERSION:2.0
PRODID:-//Noor Collective - San Diego Shia Islamic Center - ECPv5.1.6//NONSGML v1.0//EN
CALSCALE:GREGORIAN
METHOD:PUBLISH
X-WR-CALNAME:Noor Collective - San Diego Shia Islamic Center
X-ORIGINAL-URL:https://noorcollective.org
X-WR-CALDESC:Events for Noor Collective - San Diego Shia Islamic Center
BEGIN:VTIMEZONE
TZID:America/Los_Angeles
BEGIN:DAYLIGHT
TZOFFSETFROM:-0800
TZOFFSETTO:-0700
TZNAME:PDT
DTSTART:20230312T100000
END:DAYLIGHT
BEGIN:STANDARD
TZOFFSETFROM:-0700
TZOFFSETTO:-0800
TZNAME:PST
DTSTART:20231105T090000
END:STANDARD
END:VTIMEZONE
BEGIN:VEVENT
DTSTART;TZID=America/Los_Angeles:20231006T184500
DTEND;TZID=America/Los_Angeles:20231006T210000
DTSTAMP:20260422T105102
CREATED:20230928T172257Z
LAST-MODIFIED:20231006T015119Z
UID:3677-1696617900-1696626000@noorcollective.org
SUMMARY:Istikharah: Superstitious Act or a Gateway to the Divine?
DESCRIPTION:Join us on Friday at 6:45 pm as we go over the hotly debated topic of Istikhara. Is it merely a superstitious act or is it the gateway to the divine?\nThis will be at our location: 7969 ENGINEER RD #110\, SAN DIEGO\, CA 92111 https://goo.gl/maps/i2HTdSVmLKjW25XR8\nStreet parking is preferred but if not available park inside the complex. Do not park with spots that have cones in front of them as those are reserved. \nSchedule:\n6:45pm: Door Opens\n7:00pm: Prayers\n7:20pm: Lecture by Seyed Ali / Q&A\n8:10pm: Dinner
URL:https://noorcollective.org/event/istikharah-superstitious-act-or-a-gateway-to-the-divine/
CATEGORIES:Lecture
ATTACH;FMTTYPE=image/png:https://noorcollective.org/wp-content/uploads/YMA_SEP29_2023.png
END:VEVENT
END:VCALENDAR