BEGIN:VCALENDAR
VERSION:2.0
PRODID:-//Noor Collective - San Diego Shia Islamic Center - ECPv5.1.6//NONSGML v1.0//EN
CALSCALE:GREGORIAN
METHOD:PUBLISH
X-WR-CALNAME:Noor Collective - San Diego Shia Islamic Center
X-ORIGINAL-URL:https://noorcollective.org
X-WR-CALDESC:Events for Noor Collective - San Diego Shia Islamic Center
BEGIN:VTIMEZONE
TZID:America/Los_Angeles
BEGIN:DAYLIGHT
TZOFFSETFROM:-0800
TZOFFSETTO:-0700
TZNAME:PDT
DTSTART:20180311T100000
END:DAYLIGHT
BEGIN:STANDARD
TZOFFSETFROM:-0700
TZOFFSETTO:-0800
TZNAME:PST
DTSTART:20181104T090000
END:STANDARD
END:VTIMEZONE
BEGIN:VEVENT
DTSTART;TZID=America/Los_Angeles:20180622T190000
DTEND;TZID=America/Los_Angeles:20180622T213000
DTSTAMP:20260421T133620
CREATED:20180621T022223Z
LAST-MODIFIED:20180621T022401Z
UID:2449-1529694000-1529703000@noorcollective.org
SUMMARY:Jannatul Baqee and the Erasing of Islamic Identity.
DESCRIPTION:What is so important about the Jannatul Baqi cemetary and why is the Saudi government so intent on destroying it?  How is Jannatul Baqi relevant to our Islamic history? Is it relevant to our lives today?  Find the answers to all this and more in this week’s Friday program. \nSchedule: \n7:00PM Speech by Br. Sarmad \n~8:10PM Maghrib \n8:30PM Dinner
URL:https://noorcollective.org/event/jannatul-baqee-erasing-islamic-identity/
LOCATION:Noor Collective\, 7969 ENGINEER RD #110\, San diego\, CA\, 92111\, United States
CATEGORIES:Lecture
ORGANIZER;CN="Noor%20Collective":MAILTO:sourceseyed@gmail.com
END:VEVENT
END:VCALENDAR