BEGIN:VCALENDAR
VERSION:2.0
PRODID:-//Noor Collective - San Diego Shia Islamic Center - ECPv5.1.6//NONSGML v1.0//EN
CALSCALE:GREGORIAN
METHOD:PUBLISH
X-WR-CALNAME:Noor Collective - San Diego Shia Islamic Center
X-ORIGINAL-URL:https://noorcollective.org
X-WR-CALDESC:Events for Noor Collective - San Diego Shia Islamic Center
BEGIN:VTIMEZONE
TZID:America/Los_Angeles
BEGIN:DAYLIGHT
TZOFFSETFROM:-0800
TZOFFSETTO:-0700
TZNAME:PDT
DTSTART:20180311T100000
END:DAYLIGHT
BEGIN:STANDARD
TZOFFSETFROM:-0700
TZOFFSETTO:-0800
TZNAME:PST
DTSTART:20181104T090000
END:STANDARD
END:VTIMEZONE
BEGIN:VEVENT
DTSTART;TZID=America/Los_Angeles:20180727T200000
DTEND;TZID=America/Los_Angeles:20180727T220000
DTSTAMP:20260421T120205
CREATED:20180726T130954Z
LAST-MODIFIED:20180726T131003Z
UID:2469-1532721600-1532728800@noorcollective.org
SUMMARY:Jeopardy Game Night [With Prizes!]
DESCRIPTION:This Friday’s program will be another round of Jeopardy Game Night. Come play an intense game of Jeopardy with questions about a variety of Islamic and non-Islamic topics! The winning group will get prizes! \nThe program will start at 8pm\, and dinner will be served afterwards. \n\n\nSchedule:\n8PM: Prayer\n8:30PM: Short Islamic Reminder\n8:40PM Jeopardy Game\n9:30PM: Dinner
URL:https://noorcollective.org/event/jeopardy-with-prizes/
LOCATION:Noor Collective\, 7969 ENGINEER RD #110\, San diego\, CA\, 92111\, United States
ATTACH;FMTTYPE=image/png:https://noorcollective.org/wp-content/uploads/YMA_JUL27_2018.png
ORGANIZER;CN="Noor%20Collective":MAILTO:sourceseyed@gmail.com
END:VEVENT
END:VCALENDAR