BEGIN:VCALENDAR
VERSION:2.0
PRODID:-//Noor Collective - San Diego Shia Islamic Center - ECPv5.1.6//NONSGML v1.0//EN
CALSCALE:GREGORIAN
METHOD:PUBLISH
X-WR-CALNAME:Noor Collective - San Diego Shia Islamic Center
X-ORIGINAL-URL:https://noorcollective.org
X-WR-CALDESC:Events for Noor Collective - San Diego Shia Islamic Center
BEGIN:VTIMEZONE
TZID:America/Los_Angeles
BEGIN:DAYLIGHT
TZOFFSETFROM:-0800
TZOFFSETTO:-0700
TZNAME:PDT
DTSTART:20170312T100000
END:DAYLIGHT
BEGIN:STANDARD
TZOFFSETFROM:-0700
TZOFFSETTO:-0800
TZNAME:PST
DTSTART:20171105T090000
END:STANDARD
END:VTIMEZONE
BEGIN:VEVENT
DTSTART;TZID=America/Los_Angeles:20171215T190000
DTEND;TZID=America/Los_Angeles:20171215T213000
DTSTAMP:20260422T063224
CREATED:20171215T111243Z
LAST-MODIFIED:20171215T111243Z
UID:2154-1513364400-1513373400@noorcollective.org
SUMMARY:Jesus & Mary According to the Qur'an
DESCRIPTION:There are so many misconceptions about the Islamic view of Jesus and Mary. While we as Muslims may not hold those views\, how much do we really know about Jesus\, whom we hold as a major prophet and holy Messiah\, and his pure mother Mary? \nGain a deeper understanding of one of God’s holiest prophets this Friday at 7PM.
URL:https://noorcollective.org/event/jesus-mary-according-quran/
LOCATION:Noor Collective\, 7969 ENGINEER RD #110\, San diego\, CA\, 92111\, United States
CATEGORIES:Lecture
ATTACH;FMTTYPE=image/jpeg:https://noorcollective.org/wp-content/uploads/25158293_1675639005826803_4417160189788813714_n.jpg
ORGANIZER;CN="Noor%20Collective":MAILTO:sourceseyed@gmail.com
END:VEVENT
END:VCALENDAR