BEGIN:VCALENDAR
VERSION:2.0
PRODID:-//Noor Collective - San Diego Shia Islamic Center - ECPv5.1.6//NONSGML v1.0//EN
CALSCALE:GREGORIAN
METHOD:PUBLISH
X-WR-CALNAME:Noor Collective - San Diego Shia Islamic Center
X-ORIGINAL-URL:https://noorcollective.org
X-WR-CALDESC:Events for Noor Collective - San Diego Shia Islamic Center
BEGIN:VTIMEZONE
TZID:America/Los_Angeles
BEGIN:DAYLIGHT
TZOFFSETFROM:-0800
TZOFFSETTO:-0700
TZNAME:PDT
DTSTART:20260308T100000
END:DAYLIGHT
BEGIN:STANDARD
TZOFFSETFROM:-0700
TZOFFSETTO:-0800
TZNAME:PST
DTSTART:20261101T090000
END:STANDARD
END:VTIMEZONE
BEGIN:VEVENT
DTSTART;TZID=America/Los_Angeles:20260213T120000
DTEND;TZID=America/Los_Angeles:20260213T130000
DTSTAMP:20260421T104236
CREATED:20260213T014849Z
LAST-MODIFIED:20260213T014849Z
UID:4196-1770984000-1770987600@noorcollective.org
SUMMARY:Jummah Prayer @12:00pm
DESCRIPTION:Join us at 12:00pm for Jummah prayer!
URL:https://noorcollective.org/event/jummah-prayer-1200pm-3/
END:VEVENT
END:VCALENDAR