BEGIN:VCALENDAR
VERSION:2.0
PRODID:-//Noor Collective - San Diego Shia Islamic Center - ECPv5.1.6//NONSGML v1.0//EN
CALSCALE:GREGORIAN
METHOD:PUBLISH
X-WR-CALNAME:Noor Collective - San Diego Shia Islamic Center
X-ORIGINAL-URL:https://noorcollective.org
X-WR-CALDESC:Events for Noor Collective - San Diego Shia Islamic Center
BEGIN:VTIMEZONE
TZID:America/Los_Angeles
BEGIN:DAYLIGHT
TZOFFSETFROM:-0800
TZOFFSETTO:-0700
TZNAME:PDT
DTSTART:20250309T100000
END:DAYLIGHT
BEGIN:STANDARD
TZOFFSETFROM:-0700
TZOFFSETTO:-0800
TZNAME:PST
DTSTART:20251102T090000
END:STANDARD
END:VTIMEZONE
BEGIN:VEVENT
DTSTART;TZID=America/Los_Angeles:20250124T120000
DTEND;TZID=America/Los_Angeles:20250124T130000
DTSTAMP:20260421T204427
CREATED:20250122T073950Z
LAST-MODIFIED:20250124T192931Z
UID:4000-1737720000-1737723600@noorcollective.org
SUMMARY:No Jummah Prayer @ 12:00pm
DESCRIPTION:Unfortunately Jummah Prayer has been cancelled. We will see you all at 7pm for tonight’s program. \n\nFRIDAY- Jummah Prayer @ 12:00pm\nSchedule:\n11:55am: Doors open\n12:00pm: Jummah Prayer \nAll programs are held at: 7969 ENGINEER RD #110\, SAN DIEGO\, CA 92111 https://goo.gl/maps/i2HTdSVmLKjW25XR8
URL:https://noorcollective.org/event/jummah-prayer-1200pm/
END:VEVENT
END:VCALENDAR