BEGIN:VCALENDAR
VERSION:2.0
PRODID:-//Noor Collective - San Diego Shia Islamic Center - ECPv5.1.6//NONSGML v1.0//EN
CALSCALE:GREGORIAN
METHOD:PUBLISH
X-WR-CALNAME:Noor Collective - San Diego Shia Islamic Center
X-ORIGINAL-URL:https://noorcollective.org
X-WR-CALDESC:Events for Noor Collective - San Diego Shia Islamic Center
BEGIN:VTIMEZONE
TZID:America/Los_Angeles
BEGIN:DAYLIGHT
TZOFFSETFROM:-0800
TZOFFSETTO:-0700
TZNAME:PDT
DTSTART:20240310T100000
END:DAYLIGHT
BEGIN:STANDARD
TZOFFSETFROM:-0700
TZOFFSETTO:-0800
TZNAME:PST
DTSTART:20241103T090000
END:STANDARD
END:VTIMEZONE
BEGIN:VEVENT
DTSTART;TZID=America/Los_Angeles:20240614T125000
DTEND;TZID=America/Los_Angeles:20240614T140000
DTSTAMP:20260421T133502
CREATED:20240614T025711Z
LAST-MODIFIED:20240614T025711Z
UID:3844-1718369400-1718373600@noorcollective.org
SUMMARY:Jummah Prayer @ 12:50pm
DESCRIPTION:12:50PM – JUMMAH PRAYER \nJoin us at 12:50pm on Friday as we hold congregational Friday/Jummah prayers. \nFor our daytime programs\, Street parking is preferred but if not available park inside the complex. Do not park with spots that have cones in front of them as those are reserved. \nAll programs are held at: 7969 ENGINEER RD #110\, SAN DIEGO\, CA 92111 https://goo.gl/maps/i2HTdSVmLKjW25XR8
URL:https://noorcollective.org/event/jummah-prayer-1250pm-5/
END:VEVENT
END:VCALENDAR